BEGIN:VCALENDAR
VERSION:2.0
PRODID:-//ChamberMaster//Event Calendar 2.0//EN
METHOD:PUBLISH
X-PUBLISHED-TTL:P3D
REFRESH-INTERVAL:P3D
CALSCALE:GREGORIAN
BEGIN:VEVENT
DTSTART;VALUE=DATE:20111011
DTEND;VALUE=DATE:20111012
TRANSP:TRANSPARENT
X-MICROSOFT-CDO-ALLDAYEVENT:TRUE
SUMMARY:Antiques Lecture Series
DESCRIPTION:KWL and Company is proud to sponsor a series of five (5) lectures presented by Joan Jones\, ISA.  The series will commence on Tuesday\, October 11th @ 6:30 pm and will include the following topics:\nTuesday\, October 11\, 2011 @ 6:30 pm\nCrystal:  American\, English & European – 1800 to Present\n\nTuesday\, October 18\, 2011 @ 6:30 pm\nChina and Porcelains\n\nTuesday\, October 25\, 2011 @ 6:30 pm\nArt Glass\n\nTuesday\, November 1\, 2011 @ 6:30 pm\nSilver\n\nTuesday\, November 8\, 2011 @ 6:30 pm\nMake-up Class\n\nLecture Information:\n\nLectures are held at KWL and Company\, 119 East Jackson in Harlingen (formerly HiLites).  Free parking is available in front of the shop.  \n\nThe cost is $100.00 per person for the series of five (5) lectures.  Payment is due upon signing-up.\n\nPlease RSVP to Ken Wilson or Alex Hernandez at kwlandcompany@aol.com or 956-622-3241.  You may also contact Ken and Alex with any questions you might have.
X-ALT-DESC;FMTTYPE=text/html:KWL and Company is proud to sponsor a series of five (5) lectures presented by Joan Jones\, ISA.  The series will commence on Tuesday\, October 11th @ 6:30 pm and will include the following topics:\nTuesday\, October 11\, 2011 @ 6:30 pm\nCrystal:  American\, English & European – 1800 to Present\n\nTuesday\, October 18\, 2011 @ 6:30 pm\nChina and Porcelains\n\nTuesday\, October 25\, 2011 @ 6:30 pm\nArt Glass\n\nTuesday\, November 1\, 2011 @ 6:30 pm\nSilver\n\nTuesday\, November 8\, 2011 @ 6:30 pm\nMake-up Class\n\nLecture Information:\n\nLectures are held at KWL and Company\, 119 East Jackson in Harlingen (formerly HiLites).  Free parking is available in front of the shop.  \n\nThe cost is $100.00 per person for the series of five (5) lectures.  Payment is due upon signing-up.\n\nPlease RSVP to Ken Wilson or Alex Hernandez at kwlandcompany@aol.com or 956-622-3241.  You may also contact Ken and Alex with any questions you might have.\n \n \n \n \n
LOCATION:
UID:e.1828.3194
SEQUENCE:3
DTSTAMP:20260421T034023Z
URL:https://business.harlingen.com/events/details/antiques-lecture-series-10-11-2011-3194
END:VEVENT

END:VCALENDAR
