BEGIN:VCALENDAR
VERSION:2.0
PRODID:-//ChamberMaster//Event Calendar 2.0//EN
METHOD:PUBLISH
X-PUBLISHED-TTL:P3D
REFRESH-INTERVAL:P3D
CALSCALE:GREGORIAN
BEGIN:VEVENT
DTSTART;VALUE=DATE:20100812
DTEND;VALUE=DATE:20100929
TRANSP:TRANSPARENT
X-MICROSOFT-CDO-ALLDAYEVENT:TRUE
SUMMARY:Around the World in 50 Years - A Retrospective of Photographs\, Paintings and Sketchbooks by Graham & Anne McCullough
DESCRIPTION:A collection of photographs\, paintings & sketchbooks showcasing 50 years of travel by Graham & Anne McCullough will be on exhibit at the Harlingen Arts & Heritage Museum from August 12th through September 28th.  An opening reception will be held on Thursday\, August 12th at the museum.  For more information\, please call 956-216-4901.
X-ALT-DESC;FMTTYPE=text/html:A collection of photographs\, paintings & sketchbooks showcasing 50 years of travel by Graham & Anne McCullough will be on exhibit at the Harlingen Arts & Heritage Museum from August 12th through September 28th.  An opening reception will be held on Thursday\, August 12th at the museum.  For more information\, please call 956-216-4901.
LOCATION:Located at the corner of Boxwood & Raintree
UID:e.1828.2653
SEQUENCE:3
DTSTAMP:20260422T002356Z
URL:https://business.harlingen.com/events/details/around-the-world-in-50-years-a-retrospective-of-photographs-paintings-and-sketchbooks-by-graham-anne-mccullough-08-12-2010-2653
END:VEVENT

END:VCALENDAR
