BEGIN:VCALENDAR
VERSION:2.0
PRODID:-//ChamberMaster//Event Calendar 2.0//EN
METHOD:PUBLISH
X-PUBLISHED-TTL:P3D
REFRESH-INTERVAL:P3D
CALSCALE:GREGORIAN
BEGIN:VEVENT
DTSTART:20121130T000000Z
DTEND:20121130T000000Z
X-MICROSOFT-CDO-ALLDAYEVENT:FALSE
SUMMARY:Arroyo Holiday Lighting
DESCRIPTION:Enjoy the sounds of the season presented by local groups and a special appearance by Santa Claus.  Seating will be limited\, so bring your lawn chairs or a blanket to sit on. 6:00 pm.  For more information\, please call the City of Harlingen Parks & Rec. Department at (956) 216-5951.
X-ALT-DESC;FMTTYPE=text/html:Enjoy the sounds of the season presented by local groups and a special appearance by Santa Claus.  Seating will be limited\, so bring your lawn chairs or a blanket to sit on. 6:00 pm.  For more information\, please call the City of Harlingen Parks & Rec. Department at (956) 216-5951.\n
LOCATION:
UID:e.1828.4044
SEQUENCE:3
DTSTAMP:20260420T084058Z
URL:https://business.harlingen.com/events/details/arroyo-holiday-lighting-11-29-2012-4044
END:VEVENT

END:VCALENDAR
