BEGIN:VCALENDAR
VERSION:2.0
PRODID:-//ChamberMaster//Event Calendar 2.0//EN
METHOD:PUBLISH
X-PUBLISHED-TTL:P3D
REFRESH-INTERVAL:P3D
CALSCALE:GREGORIAN
BEGIN:VEVENT
DTSTART:20101203T003000Z
DTEND:20101203T003000Z
X-MICROSOFT-CDO-ALLDAYEVENT:FALSE
SUMMARY:Arroyo Holiday Lighting at McKelvey Park
DESCRIPTION:Enjoy the sounds of the season presented by local groups and a special appearance by Santa Claus.  Seating will be limited\, so bring your lawn chairs or a blanket to sit on.  6:30 pm.  McKelvey Park is located at 1325 S 77 Sunshine Strip.  For more information\, please call the parks department at (956) 216-5950.
X-ALT-DESC;FMTTYPE=text/html:Enjoy the sounds of the season presented by local groups and a special appearance by Santa Claus.  Seating will be limited\, so bring your lawn chairs or a blanket to sit on.  6:30 pm.  McKelvey Park is located at 1325 S 77 Sunshine Strip.  For more information\, please call the parks department at (956) 216-5950.\n
LOCATION:
UID:e.1828.2686
SEQUENCE:3
DTSTAMP:20260421T171642Z
URL:https://business.harlingen.com/events/details/arroyo-holiday-lighting-at-mckelvey-park-12-02-2010-2686
END:VEVENT

END:VCALENDAR
