BEGIN:VCALENDAR
VERSION:2.0
PRODID:-//ChamberMaster//Event Calendar 2.0//EN
METHOD:PUBLISH
X-PUBLISHED-TTL:P3D
REFRESH-INTERVAL:P3D
CALSCALE:GREGORIAN
BEGIN:VEVENT
DTSTART:20110707T230000Z
DTEND:20110708T010000Z
X-MICROSOFT-CDO-ALLDAYEVENT:FALSE
SUMMARY:"Art21Studio Formulations: a selection of sculptural works produced by the Studio"
DESCRIPTION:Mexican Ministry for Foreign Affairs\, Harlingen Arts & Heritage Museum\, Mexican Cultural Institute in San Antonio and the Consulate of Mexico at Brownsville cordially invite you to the opening of  \n   "Art21Studio Formulations: a selection of sculptural works produced by the Studio"\n\n         Artists featured: Ramiz Barquet\, Gilberto Ortega ''El Infeliz''\, Benito Zamora\, Vladimir Cora\,\n                                    Jaime Ponce\, Won Lee\, R. Cuas\, Gloria Elies\, Oscar Zamarripa\, \n                                    GianPaolo Tomasetti\, Luis Espiridion\, María Elena Jasso\, Stephany Kerwin\,\n                                    Beth Carter\, Sergio Hernández\, Paloma Andrew and Francisco Quintero.\n \nThursday\, July 7th\, 2011\n6:00 to 8:00 p.m.                                                                                                                                                       \nThe exhibit at the Museum will remain until September 19th.  2011.\n\n FREE ENTRANCE\n\nCROSSWINDS: Visual Narratives From Guadalajara Benito Zamora "Totem" and Stephany Kerwin "Circense".
X-ALT-DESC;FMTTYPE=text/html:Mexican Ministry for Foreign Affairs\, Harlingen Arts & Heritage Museum\, Mexican Cultural Institute in San Antonio and the Consulate of Mexico at Brownsville cordially invite you to the opening of  \n   "Art21Studio Formulations: a selection of sculptural works produced by the Studio"\n\n         Artists featured: Ramiz Barquet\, Gilberto Ortega ''El Infeliz''\, Benito Zamora\, Vladimir Cora\,\n                                    Jaime Ponce\, Won Lee\, R. Cuas\, Gloria Elies\, Oscar Zamarripa\, \n                                    GianPaolo Tomasetti\, Luis Espiridion\, María Elena Jasso\, Stephany Kerwin\,\n                                    Beth Carter\, Sergio Hernández\, Paloma Andrew and Francisco Quintero.\n \nThursday\, July 7th\, 2011\n6:00 to 8:00 p.m.                                                                                                                                                       \nThe exhibit at the Museum will remain until September 19th.  2011.\n\n FREE ENTRANCE\n\nCROSSWINDS: Visual Narratives From Guadalajara Benito Zamora "Totem" and Stephany Kerwin "Circense".
LOCATION:
UID:e.1828.3100
SEQUENCE:3
DTSTAMP:20260421T064241Z
URL:https://business.harlingen.com/events/details/art21studio-formulations-a-selection-of-sculptural-works-produced-by-the-studio-07-07-2011-3100
END:VEVENT

END:VCALENDAR
