BEGIN:VCALENDAR
VERSION:2.0
PRODID:-//ChamberMaster//Event Calendar 2.0//EN
METHOD:PUBLISH
X-PUBLISHED-TTL:P3D
REFRESH-INTERVAL:P3D
CALSCALE:GREGORIAN
BEGIN:VEVENT
DTSTART:20100213T140000Z
DTEND:20100213T140000Z
X-MICROSOFT-CDO-ALLDAYEVENT:FALSE
SUMMARY:Arts and Craft Show
DESCRIPTION:Arts and Craft Show at the LARGEST RV Resort in Texas!! \nFunNSun RV Resort in San Benito. Feb 13th
X-ALT-DESC;FMTTYPE=text/html:Arts and Craft Show at the LARGEST RV Resort in Texas!! \nFunNSun RV Resort in San Benito. Feb 13th
LOCATION:FunNSun RV Resort off 509 south Paso Real Exit\, San Benito
UID:e.1828.2231
SEQUENCE:3
DTSTAMP:20260422T111818Z
URL:https://business.harlingen.com/events/details/arts-and-craft-show-02-13-2010-2231
END:VEVENT

END:VCALENDAR
