BEGIN:VCALENDAR
VERSION:2.0
PRODID:-//ChamberMaster//Event Calendar 2.0//EN
METHOD:PUBLISH
X-PUBLISHED-TTL:P3D
REFRESH-INTERVAL:P3D
CALSCALE:GREGORIAN
BEGIN:VEVENT
DTSTART:20100227T140000Z
DTEND:20100227T140000Z
X-MICROSOFT-CDO-ALLDAYEVENT:FALSE
SUMMARY:Arts and Craft Show
DESCRIPTION:Arts and Craft Show at the LARGEST RV Resort in Texas!! \nFunNSun RV Resort in San Benito. Feb 27th
X-ALT-DESC;FMTTYPE=text/html:Arts and Craft Show at the LARGEST RV Resort in Texas!! \nFunNSun RV Resort in San Benito. Feb 27th
LOCATION:FunNSun RV Resort off 509 south Paso Real Exit\, San Benito
UID:e.1828.2232
SEQUENCE:3
DTSTAMP:20260422T093707Z
URL:https://business.harlingen.com/events/details/arts-and-craft-show-02-27-2010-2232
END:VEVENT

END:VCALENDAR
