BEGIN:VCALENDAR
VERSION:2.0
PRODID:-//ChamberMaster//Event Calendar 2.0//EN
METHOD:PUBLISH
X-PUBLISHED-TTL:P3D
REFRESH-INTERVAL:P3D
CALSCALE:GREGORIAN
BEGIN:VEVENT
DTSTART:20100327T130000Z
DTEND:20100327T130000Z
X-MICROSOFT-CDO-ALLDAYEVENT:FALSE
SUMMARY:Arts and Craft Show
DESCRIPTION:Arts and Craft Show at the LARGEST RV Resort in Texas!! \nFunNSun RV Resort in San Benito. March 27th
X-ALT-DESC;FMTTYPE=text/html:Arts and Craft Show at the LARGEST RV Resort in Texas!! \nFunNSun RV Resort in San Benito. March 27th
LOCATION:FunNSun RV Resort off 509 south Paso Real Exit\, San Benito
UID:e.1828.2235
SEQUENCE:3
DTSTAMP:20260422T080806Z
URL:https://business.harlingen.com/events/details/arts-and-craft-show-03-27-2010-2235
END:VEVENT

END:VCALENDAR
