BEGIN:VCALENDAR
VERSION:2.0
PRODID:-//ChamberMaster//Event Calendar 2.0//EN
METHOD:PUBLISH
X-PUBLISHED-TTL:P3D
REFRESH-INTERVAL:P3D
CALSCALE:GREGORIAN
BEGIN:VEVENT
DTSTART:20100302T150000Z
DTEND:20100303T234500Z
X-MICROSOFT-CDO-ALLDAYEVENT:FALSE
SUMMARY:ASIST Workshop on Suicide First Aid
DESCRIPTION:This two-day first aid interactive workshop will provide caregivers with the competency of being willing\, ready and able.\n\nASIST provides practical training for caregivers seeking to prevent the immediate risk of suicide.  The emphasis of the ASIST workshop is on suicide first aid\, on helping a person at risk stay safe and seeks further help.\n\nASIST is affordable training\, $100 for the materials and the 16 hours of instruction.\n\n\nFor more information on the programs and registration deadlines please contact:  Enrica Kirksey-Rincones\, CPE - Education Coordinator at 956.389.6750.
X-ALT-DESC;FMTTYPE=text/html:This two-day first aid interactive workshop will provide caregivers with the competency of being willing\, ready and able.\n\nASIST provides practical training for caregivers seeking to prevent the immediate risk of suicide.  The emphasis of the ASIST workshop is on suicide first aid\, on helping a person at risk stay safe and seeks further help.\n\nASIST is affordable training\, $100 for the materials and the 16 hours of instruction.\n\n\nFor more information on the programs and registration deadlines please contact:  Enrica Kirksey-Rincones\, CPE - Education Coordinator at 956.389.6750.
LOCATION:
UID:e.1828.2363
SEQUENCE:3
DTSTAMP:20260422T080703Z
URL:https://business.harlingen.com/events/details/asist-workshop-on-suicide-first-aid-03-02-2010-2363
END:VEVENT

END:VCALENDAR
