BEGIN:VCALENDAR
VERSION:2.0
PRODID:-//ChamberMaster//Event Calendar 2.0//EN
METHOD:PUBLISH
X-PUBLISHED-TTL:P3D
REFRESH-INTERVAL:P3D
CALSCALE:GREGORIAN
BEGIN:VEVENT
DTSTART:20120402T223000Z
DTEND:20120402T223000Z
X-MICROSOFT-CDO-ALLDAYEVENT:FALSE
SUMMARY:Audi San Juan Ribbon Cutting
DESCRIPTION:Audi San Juan\, a luxury car dealership\, opened in February.  Come out and help them celebrate with a ribbon cutting.  Refreshments and cocktails will be served.
X-ALT-DESC;FMTTYPE=text/html:Audi San Juan\, a luxury car dealership\, opened in February.  Come out and help them celebrate with a ribbon cutting.  Refreshments and cocktails will be served.  \n
LOCATION:
UID:e.1828.3597
SEQUENCE:3
DTSTAMP:20260420T163453Z
URL:https://business.harlingen.com/events/details/audi-san-juan-ribbon-cutting-04-02-2012-3597
END:VEVENT

END:VCALENDAR
