BEGIN:VCALENDAR
VERSION:2.0
PRODID:-//ChamberMaster//Event Calendar 2.0//EN
METHOD:PUBLISH
X-PUBLISHED-TTL:P3D
REFRESH-INTERVAL:P3D
CALSCALE:GREGORIAN
BEGIN:VEVENT
DTSTART:20120810T120000Z
DTEND:20120810T170000Z
X-MICROSOFT-CDO-ALLDAYEVENT:FALSE
SUMMARY:Autism Recognition & Response Training For First Responders
DESCRIPTION:Hosted by TSTC. Autism Recognition & Response Training For First Responders (law enforcement\, emergency medical professionals\, firefighters\, LPC's\, LMFT's\, social workers\, etc.) \n\nFREE Seminar! Dennis Debbaudt will provide a four hour presentation for professional audiences who may have contact with individuals with Autism in an emergency\, such as police\, fire\, EMS and other professionals.  Participants may receive four hours of continuing education credits.
X-ALT-DESC;FMTTYPE=text/html:Hosted by TSTC. Autism Recognition & Response Training For First Responders (law enforcement\, emergency medical professionals\, firefighters\, LPC's\, LMFT's\, social workers\, etc.) \n\nFREE Seminar! Dennis Debbaudt will provide a four hour presentation for professional audiences who may have contact with individuals with Autism in an emergency\, such as police\, fire\, EMS and other professionals.  Participants may receive four hours of continuing education credits.  \n   \n
LOCATION:
UID:e.1828.3922
SEQUENCE:3
DTSTAMP:20260420T095738Z
URL:https://business.harlingen.com/events/details/autism-recognition-response-training-for-first-responders-08-10-2012-3922
END:VEVENT

END:VCALENDAR
