BEGIN:VCALENDAR
VERSION:2.0
PRODID:-//ChamberMaster//Event Calendar 2.0//EN
METHOD:PUBLISH
X-PUBLISHED-TTL:P3D
REFRESH-INTERVAL:P3D
CALSCALE:GREGORIAN
BEGIN:VEVENT
DTSTART:20110401T000000Z
DTEND:20110402T070000Z
X-MICROSOFT-CDO-ALLDAYEVENT:FALSE
SUMMARY:autism speaks charity event
DESCRIPTION:appetizers will be served from 7pm to 8 pm...video dj nrg live..wear blue and come out and support our autism speaks event.proceeds will be donated to help fund a local private school for autistic children please come help support...
X-ALT-DESC;FMTTYPE=text/html:appetizers will be served from 7pm to 8 pm...video dj nrg live..wear blue and come out and support our autism speaks event.proceeds will be donated to help fund a local private school for autistic children please come help support... \n\n
LOCATION:2230 s 77 sunshine strip harlingen tx
UID:e.1828.3205
SEQUENCE:3
DTSTAMP:20260421T123848Z
URL:https://business.harlingen.com/events/details/autism-speaks-charity-event-03-31-2011-3205
END:VEVENT

END:VCALENDAR
