BEGIN:VCALENDAR
VERSION:2.0
PRODID:-//ChamberMaster//Event Calendar 2.0//EN
METHOD:PUBLISH
X-PUBLISHED-TTL:P3D
REFRESH-INTERVAL:P3D
CALSCALE:GREGORIAN
BEGIN:VEVENT
DTSTART:20100420T170000Z
DTEND:20100422T170000Z
X-MICROSOFT-CDO-ALLDAYEVENT:FALSE
SUMMARY:B-HIT or B-Prepared Economic Development & Emergency Preparedness Conference
DESCRIPTION:Businesses attend regional conference on disaster preparedness\nIs your business prepared for a disaster?\n\nSmall business owners\, who recognize the necessity of a business continuity or emergency preparedness plan\, will gain practical knowledge from the business track of the B-HIT or B-Prepared Economic Development and Emergency Management Conference at the South Padre Island Convention Centre from April 20 through April 22.\n\nHosted by the Lower Rio Grande Valley Development Council (LRGVDC) and the UTPA Small Business Development Center (SBDC)\, the B-HIT or B-Prepared business track covers public resources\, insurance needs\, and employee protection\, as well as credit issues\,  identity risks\, and scams during disasters\, among others.  \n\n''Business continuity\, an integral facet of a strategic plan for a business\, requires the attention of even the smallest business enterprise.  A business typically provides the principle livelihood for the business owner.  When a disaster interrupts operations\, however\, the ripple effect can be devastating to the owner\, its employees\, and the community.   The business track for this conference offers small business owners access to invaluable resources  - contacts\, information\, and tools \, to get back to business as quickly as possible after a disaster\,'' share Maria Juarez Serna\, Director for the Small Business Development Center.\n\nAccording to Terrie G. Salinas\, LRGVDC Program Director for Economic Development and lead for the event\, the main impetus for this event is to help build ''disaster-resilient communities''.   \n\n''This conference is for everybody!  It will provide information and educational training on how to deal with man-made and natural disasters at all levels:  business\, community leaders\, and volunteers.  We have experienced speakers addressing all of these areas to help our region. This conference is the first of its kind to support both economic development and emergency management service providers\,'' added
X-ALT-DESC;FMTTYPE=text/html:Businesses attend regional conference on disaster preparedness\nIs your business prepared for a disaster?\n\nSmall business owners\, who recognize the necessity of a business continuity or emergency preparedness plan\, will gain practical knowledge from the business track of the B-HIT or B-Prepared Economic Development and Emergency Management Conference at the South Padre Island Convention Centre from April 20 through April 22.\n\nHosted by the Lower Rio Grande Valley Development Council (LRGVDC) and the UTPA Small Business Development Center (SBDC)\, the B-HIT or B-Prepared business track covers public resources\, insurance needs\, and employee protection\, as well as credit issues\,  identity risks\, and scams during disasters\, among others.  \n\n''Business continuity\, an integral facet of a strategic plan for a business\, requires the attention of even the smallest business enterprise.  A business typically provides the principle livelihood for the business owner.  When a disaster interrupts operations\, however\, the ripple effect can be devastating to the owner\, its employees\, and the community.   The business track for this conference offers small business owners access to invaluable resources  - contacts\, information\, and tools \, to get back to business as quickly as possible after a disaster\,'' share Maria Juarez Serna\, Director for the Small Business Development Center.\n\nAccording to Terrie G. Salinas\, LRGVDC Program Director for Economic Development and lead for the event\, the main impetus for this event is to help build ''disaster-resilient communities''.   \n\n''This conference is for everybody!  It will provide information and educational training on how to deal with man-made and natural disasters at all levels:  business\, community leaders\, and volunteers.  We have experienced speakers addressing all of these areas to help our region. This conference is the first of its kind to support both economic development and emergency management service providers\,'' added 
LOCATION:South Padre Island Convention Centre
UID:e.1828.2491
SEQUENCE:3
DTSTAMP:20260422T062401Z
URL:https://business.harlingen.com/events/details/b-hit-or-b-prepared-economic-development-emergency-preparedness-conference-04-20-2010-2491
END:VEVENT

END:VCALENDAR
