BEGIN:VCALENDAR
VERSION:2.0
PRODID:-//ChamberMaster//Event Calendar 2.0//EN
METHOD:PUBLISH
X-PUBLISHED-TTL:P3D
REFRESH-INTERVAL:P3D
CALSCALE:GREGORIAN
BEGIN:VEVENT
DTSTART;VALUE=DATE:20110204
DTEND;VALUE=DATE:20110221
TRANSP:TRANSPARENT
X-MICROSOFT-CDO-ALLDAYEVENT:TRUE
SUMMARY:Ballet Folkllorico UT Pan American Presents Alegria 2011 Magia\, Encanto y Pasion
DESCRIPTION:Public concerts Magia\, Encanto y Pasion\n\nFebruary 4\,11\,18\,19 - 7:30PM\nFebruary 5\,6\,12\,13\,19\,20- 2PM\n\nTickets at the door\nAdults Pre-sale- $10.00\nStudents/Child- $5.00\n\nAdults Pre-sale-$8.00\navailable at IBC\, Wal-Mart in- stores branches valley wide. \n\nFor more information call 956-665-2230 or visit www.utpa.edu/balletfolklorico
X-ALT-DESC;FMTTYPE=text/html:Public concerts Magia\, Encanto y Pasion\n\nFebruary 4\,11\,18\,19 - 7:30PM\nFebruary 5\,6\,12\,13\,19\,20- 2PM\n\nTickets at the door\nAdults Pre-sale- $10.00\nStudents/Child- $5.00\n\nAdults Pre-sale-$8.00\navailable at IBC\, Wal-Mart in- stores branches valley wide. \n\nFor more information call 956-665-2230 or visit www.utpa.edu/balletfolklorico
LOCATION:
UID:e.1828.2908
SEQUENCE:3
DTSTAMP:20260421T143212Z
URL:https://business.harlingen.com/events/details/ballet-folkllorico-ut-pan-american-presents-alegria-2011-magia-encanto-y-pasion-02-04-2011-2908
END:VEVENT

END:VCALENDAR
