BEGIN:VCALENDAR
VERSION:2.0
PRODID:-//ChamberMaster//Event Calendar 2.0//EN
METHOD:PUBLISH
X-PUBLISHED-TTL:P3D
REFRESH-INTERVAL:P3D
CALSCALE:GREGORIAN
BEGIN:VEVENT
DTSTART;VALUE=DATE:20110513
DTEND;VALUE=DATE:20110514
TRANSP:TRANSPARENT
X-MICROSOFT-CDO-ALLDAYEVENT:TRUE
SUMMARY:Basketball Showdown
DESCRIPTION:BASKETBALL SHOWDOWN\n                Benefiting Tech Prep/RGV MENTORS \n\n    HARLINGEN                                         TEXAS LEGENDS\n     ALL STARS                      VS               COWBOYS STARS\n    \nHarlingen Police Dept.                         Stephen McGee #7\nCommunity Leaders                            Martellus Bennett #80\nCricket Communications                      And Others!\n________________________________________________\n\n Date : Friday May 13\, 2011 \n Doors Open: 5:30 pm\n Game Begins: 7:00 pm\n\nFor more information please call Harlingen Chamber of Commerce 956-423-5440.
X-ALT-DESC;FMTTYPE=text/html:                         BASKETBALL SHOWDOWN\n                Benefiting Tech Prep/RGV MENTORS \n\n    HARLINGEN                                         TEXAS LEGENDS\n     ALL STARS                      VS               COWBOYS STARS\n    \nHarlingen Police Dept.                         Stephen McGee #7\nCommunity Leaders                            Martellus Bennett #80\nCricket Communications                      And Others!\n________________________________________________\n\n Date : Friday May 13\, 2011 \n Doors Open: 5:30 pm\n Game Begins: 7:00 pm\n\nFor more information please call Harlingen Chamber of Commerce 956-423-5440.\n\n\n
LOCATION:
UID:e.1828.3034
SEQUENCE:3
DTSTAMP:20260421T093941Z
URL:https://business.harlingen.com/events/details/basketball-showdown-05-13-2011-3034
END:VEVENT

END:VCALENDAR
