BEGIN:VCALENDAR
VERSION:2.0
PRODID:-//ChamberMaster//Event Calendar 2.0//EN
METHOD:PUBLISH
X-PUBLISHED-TTL:P3D
REFRESH-INTERVAL:P3D
CALSCALE:GREGORIAN
BEGIN:VEVENT
DTSTART;VALUE=DATE:20120303
DTEND;VALUE=DATE:20120304
TRANSP:TRANSPARENT
X-MICROSOFT-CDO-ALLDAYEVENT:TRUE
SUMMARY:Bass Master University Bass Pro Shops 2012 Spring Fishing Classics
DESCRIPTION:1 pm- Captain Bruce Schuler ''Deep Tactics and Tricks for Winter Time''\n2 pm- Fred Roumbanis ''Shallow Water Power Fishing''\n3 pm- Tommy Martin ''Fishing Lake Falcon''\nMarch 4\n2 pm- Bruce Schuler ''Deep Tactics and Tricks for winter Time''\n\nContact information Elizabeth Ulloa Promotions Coordinator mail to:eulloa@basspro.com
X-ALT-DESC;FMTTYPE=text/html:1 pm- Captain Bruce Schuler ''Deep Tactics and Tricks for Winter Time''\n2 pm- Fred Roumbanis ''Shallow Water Power Fishing''\n3 pm- Tommy Martin ''Fishing Lake Falcon''\nMarch 4\n2 pm- Bruce Schuler ''Deep Tactics and Tricks for winter Time''\n\nContact information Elizabeth Ulloa Promotions Coordinator mail to:eulloa@basspro.com
LOCATION:
UID:e.1828.3540
SEQUENCE:3
DTSTAMP:20260420T200422Z
URL:https://business.harlingen.com/events/details/bass-master-university-bass-pro-shops-2012-spring-fishing-classics-03-03-2012-3540
END:VEVENT

END:VCALENDAR
