BEGIN:VCALENDAR
VERSION:2.0
PRODID:-//ChamberMaster//Event Calendar 2.0//EN
METHOD:PUBLISH
X-PUBLISHED-TTL:P3D
REFRESH-INTERVAL:P3D
CALSCALE:GREGORIAN
BEGIN:VEVENT
DTSTART;VALUE=DATE:20120225
DTEND;VALUE=DATE:20120226
TRANSP:TRANSPARENT
X-MICROSOFT-CDO-ALLDAYEVENT:TRUE
SUMMARY:Bass Pro Shops 2012 Spring Fishing Classics
DESCRIPTION:1 pm- Red Fish In Your Area- Timing\, Tactics\, and Gear\n2pm- Pre-Spawn and Post Spawn Bass\n3 pm- Fish Finder Basics\n4 pm- Crank Bait Fishing: Tactics and the Importance of Matching Rod and Reel Gear Ratio to Various Crank Baits\n5 pm- Spinner Bait Basics\n \nContact information\, Elizabeth Ulloa\, mail to: eulloa@basspro.com
X-ALT-DESC;FMTTYPE=text/html:1 pm- Red Fish In Your Area- Timing\, Tactics\, and Gear\n2pm- Pre-Spawn and Post Spawn Bass\n3 pm- Fish Finder Basics\n4 pm- Crank Bait Fishing: Tactics and the Importance of Matching Rod and Reel Gear Ratio to Various Crank Baits\n5 pm- Spinner Bait Basics\n \nContact information\, Elizabeth Ulloa\, mail to: eulloa@basspro.com
LOCATION:
UID:e.1828.3502
SEQUENCE:3
DTSTAMP:20260420T200140Z
URL:https://business.harlingen.com/events/details/bass-pro-shops-2012-spring-fishing-classics-02-25-2012-3502
END:VEVENT

END:VCALENDAR
