BEGIN:VCALENDAR
VERSION:2.0
PRODID:-//ChamberMaster//Event Calendar 2.0//EN
METHOD:PUBLISH
X-PUBLISHED-TTL:P3D
REFRESH-INTERVAL:P3D
CALSCALE:GREGORIAN
BEGIN:VEVENT
DTSTART;VALUE=DATE:20120226
DTEND;VALUE=DATE:20120227
TRANSP:TRANSPARENT
X-MICROSOFT-CDO-ALLDAYEVENT:TRUE
SUMMARY:Bass Pro Shops 2012 Spring Fishing Classics
DESCRIPTION:1 pm- The Tackle and Tactics of Power Fishing vs. Finesse Fishing\n2 pm- Local Fishing Tips and Techniques\n3 pm- Side Imaging Sonar: How to Use It Effectively to Catch Fish\n4 pm- Fish Finder basics\n\nContact information\, Elizabeth Ulloa\, mail to: EUlloa@
X-ALT-DESC;FMTTYPE=text/html:1 pm- The Tackle and Tactics of Power Fishing vs. Finesse Fishing\n2 pm- Local Fishing Tips and Techniques\n3 pm- Side Imaging Sonar: How to Use It Effectively to Catch Fish\n4 pm- Fish Finder basics\n\nContact information\, Elizabeth Ulloa\, mail to: EUlloa@ 
LOCATION:
UID:e.1828.3503
SEQUENCE:3
DTSTAMP:20260420T200202Z
URL:https://business.harlingen.com/events/details/bass-pro-shops-2012-spring-fishing-classics-02-26-2012-3503
END:VEVENT

END:VCALENDAR
