BEGIN:VCALENDAR
VERSION:2.0
PRODID:-//ChamberMaster//Event Calendar 2.0//EN
METHOD:PUBLISH
X-PUBLISHED-TTL:P3D
REFRESH-INTERVAL:P3D
CALSCALE:GREGORIAN
BEGIN:VEVENT
DTSTART:20111117T000000Z
DTEND:20111117T000000Z
X-MICROSOFT-CDO-ALLDAYEVENT:FALSE
SUMMARY:Bass Pro Shops Evening For Conservation
DESCRIPTION:Evening for Conservation is to help raise money for local conservation efforts. For every $1. spent during the Evening for Conservation\, .50 cents will be donated to the National Fish and Wildlife Foundation's "More Fish" Campaign to save fish and their habitats for our kids and grandkids.\n\nAppearances By:\n\nJamie McMurray\, Bass Pro Shops #1 Spring Cup Series Driver\nJay Novacek\, Dallas Cowboys '90-96'\, 5-Time Pro Bowler\nJohn Paul Morris\, RedHead Pro Hunting Team Member\nJeanette Lee\, The Black Widow/America's Billiard Star\nJimmy Houston\, Host of the "Jimmy Houston Outdoors" TV Show\n\nAlso appearing- Austin Dillion\, Jerry Martin\, Jim & Angie Ryan and Hunter\, Edwin Evers\, Ott DeFoe\, Chris Reed\, Brittany Booker (Miss Texas USA 2012).\n\nAll appearances & displays subject to change.
X-ALT-DESC;FMTTYPE=text/html:Evening for Conservation is to help raise money for local conservation efforts. For every $1. spent during the Evening for Conservation\, .50 cents will be donated to the National Fish and Wildlife Foundation's "More Fish" Campaign to save fish and their habitats for our kids and grandkids.\n\nAppearances By:\n\nJamie McMurray\, Bass Pro Shops #1 Spring Cup Series Driver\nJay Novacek\, Dallas Cowboys '90-96'\, 5-Time Pro Bowler\nJohn Paul Morris\, RedHead Pro Hunting Team Member\nJeanette Lee\, The Black Widow/America's Billiard Star\nJimmy Houston\, Host of the "Jimmy Houston Outdoors" TV Show\n\nAlso appearing- Austin Dillion\, Jerry Martin\, Jim & Angie Ryan and Hunter\, Edwin Evers\, Ott DeFoe\, Chris Reed\, Brittany Booker (Miss Texas USA 2012).\n\nAll appearances & displays subject to change.
LOCATION:At the intersection of Expressway 83 and 77 (take Dixieland or Spur 54 exit)
UID:e.1828.3215
SEQUENCE:3
DTSTAMP:20260421T003948Z
URL:https://business.harlingen.com/events/details/bass-pro-shops-evening-for-conservation-11-16-2011-3215
END:VEVENT

END:VCALENDAR
