BEGIN:VCALENDAR
VERSION:2.0
PRODID:-//ChamberMaster//Event Calendar 2.0//EN
METHOD:PUBLISH
X-PUBLISHED-TTL:P3D
REFRESH-INTERVAL:P3D
CALSCALE:GREGORIAN
BEGIN:VEVENT
DTSTART;VALUE=DATE:20120711
DTEND;VALUE=DATE:20120712
TRANSP:TRANSPARENT
X-MICROSOFT-CDO-ALLDAYEVENT:TRUE
SUMMARY:Bass Pro Shops Free Family Summer Camp
DESCRIPTION:Bass Pro Shops Free Family Summer Camp every Tuesday\, Thursday\, Saturday & Sunday \nJune 9\, 2012 - July 15\, 2012\n\nFor more information\, call (956) 291-5200.  For workshop schedule information\, visit www.basspro.com click on Family Summer Camp.
X-ALT-DESC;FMTTYPE=text/html:Bass Pro Shops Free Family Summer Camp every Tuesday\, Thursday\, Saturday & Sunday \nJune 9\, 2012 - July 15\, 2012\n\nFor more information\, call (956) 291-5200.  For workshop schedule information\, visit www.basspro.com click on Family Summer Camp. \n    \n
LOCATION:
UID:e.1828.3812
SEQUENCE:3
DTSTAMP:20260420T120316Z
URL:https://business.harlingen.com/events/details/bass-pro-shops-free-family-summer-camp-07-11-2012-3812
END:VEVENT

END:VCALENDAR
