BEGIN:VCALENDAR
VERSION:2.0
PRODID:-//ChamberMaster//Event Calendar 2.0//EN
METHOD:PUBLISH
X-PUBLISHED-TTL:P3D
REFRESH-INTERVAL:P3D
CALSCALE:GREGORIAN
BEGIN:VEVENT
DTSTART:20091120T000000Z
DTEND:20091120T060000Z
X-MICROSOFT-CDO-ALLDAYEVENT:FALSE
SUMMARY:Battle of the Bands at TSTC
DESCRIPTION:Eight of the first-rate\, hottest rock 'n' roll bands from the Rio Grande Valley will perform live at Texas State Technical College Harlingen.\n \nThe eight bands vying for honors include Lucid Decree\, Bionicore\, CANE\, Blu Pilosky\, The Shrimp Shack Shooters\, Seven\, Immortal Guardian\, and Adrenochrome. There will be a special performance by The AliCat Project. The event is sponsored by The Fanatics Club\, TSTC and radio station Q94.5 The Rock. First place will receive $500 and open for a major concert in the Valley\, $300 for second place\, and $200 for third place. The Fan Trophy will be awarded based upon crowd applause. Cherijohn's will provide the special sound system equipment.\n \nThis event will assist the RGV Food Bank because admission is either a canned food item per person or a $2 per person contribution to the RGV Food Bank.\n \nFor additional information or directions to the quad\, please contact TSTC Marketing Director Keri Gutierrez at 956.456.1125.
X-ALT-DESC;FMTTYPE=text/html:Eight of the first-rate\, hottest rock 'n' roll bands from the Rio Grande Valley will perform live at Texas State Technical College Harlingen.\n \nThe eight bands vying for honors include Lucid Decree\, Bionicore\, CANE\, Blu Pilosky\, The Shrimp Shack Shooters\, Seven\, Immortal Guardian\, and Adrenochrome. There will be a special performance by The AliCat Project. The event is sponsored by The Fanatics Club\, TSTC and radio station Q94.5 The Rock. First place will receive $500 and open for a major concert in the Valley\, $300 for second place\, and $200 for third place. The Fan Trophy will be awarded based upon crowd applause. Cherijohn's will provide the special sound system equipment.\n \nThis event will assist the RGV Food Bank because admission is either a canned food item per person or a $2 per person contribution to the RGV Food Bank.\n \nFor additional information or directions to the quad\, please contact TSTC Marketing Director Keri Gutierrez at 956.456.1125.\n
LOCATION:
UID:e.1828.2216
SEQUENCE:3
DTSTAMP:20260422T130527Z
URL:https://business.harlingen.com/events/details/battle-of-the-bands-at-tstc-11-19-2009-2216
END:VEVENT

END:VCALENDAR
