BEGIN:VCALENDAR
VERSION:2.0
PRODID:-//ChamberMaster//Event Calendar 2.0//EN
METHOD:PUBLISH
X-PUBLISHED-TTL:P3D
REFRESH-INTERVAL:P3D
CALSCALE:GREGORIAN
BEGIN:VEVENT
DTSTART:20120216T200000Z
DTEND:20120217T000000Z
X-MICROSOFT-CDO-ALLDAYEVENT:FALSE
SUMMARY:BE HEART SMART
DESCRIPTION:COMMUNITY AWARENESS EVENT\nFREE:Blood Pressure\, Blood sugar Screening\, Refreshments\, Free Zumba Session\, Live Music ....
X-ALT-DESC;FMTTYPE=text/html:COMMUNITY AWARENESS EVENT\nFREE:Blood Pressure\, Blood sugar Screening\, Refreshments\, Free Zumba Session\, Live Music ....\n
LOCATION:Retama Manor Rehab and Nursing
UID:e.1828.3405
SEQUENCE:3
DTSTAMP:20260420T195225Z
URL:https://business.harlingen.com/events/details/be-heart-smart-02-16-2012-3405
END:VEVENT

END:VCALENDAR
