BEGIN:VCALENDAR
VERSION:2.0
PRODID:-//ChamberMaster//Event Calendar 2.0//EN
METHOD:PUBLISH
X-PUBLISHED-TTL:P3D
REFRESH-INTERVAL:P3D
CALSCALE:GREGORIAN
BEGIN:VEVENT
DTSTART:20100526T210000Z
DTEND:20100526T230000Z
X-MICROSOFT-CDO-ALLDAYEVENT:FALSE
SUMMARY:Behavioral Health Services Seniors Open House
DESCRIPTION:Valley Baptist Behavioral Health Intensive Outpatient Program for Seniors cordially invites you to an Open House on Wednesday\, May 26th from 4 to 6 pm.  Valley Baptist is proud to offer a wide range of behavioral health services to the communities we serve.  The Behavioral Health Intensive Outpatient program for Seniors is a comprehensive service for those age 55 and older. The Program provides treatment for those suffering from emotional\, behavioral\, or psychiatric disorders. Services are provided in a safe\, supportive environment that\noffers individualized treatment including group\, individual and family therapy.  For more information\, please call 956-389-6578.
X-ALT-DESC;FMTTYPE=text/html:Valley Baptist Behavioral Health Intensive Outpatient Program for Seniors cordially invites you to an Open House on Wednesday\, May 26th from 4 to 6 pm.  Valley Baptist is proud to offer a wide range of behavioral health services to the communities we serve.  The Behavioral Health Intensive Outpatient program for Seniors is a comprehensive service for those age 55 and older. The Program provides treatment for those suffering from emotional\, behavioral\, or psychiatric disorders. Services are provided in a safe\, supportive environment that\noffers individualized treatment including group\, individual and family therapy.  For more information\, please call 956-389-6578.
LOCATION:
UID:e.1828.2536
SEQUENCE:3
DTSTAMP:20260422T062005Z
URL:https://business.harlingen.com/events/details/behavioral-health-services-seniors-open-house-05-26-2010-2536
END:VEVENT

END:VCALENDAR
