BEGIN:VCALENDAR
VERSION:2.0
PRODID:-//ChamberMaster//Event Calendar 2.0//EN
METHOD:PUBLISH
X-PUBLISHED-TTL:P3D
REFRESH-INTERVAL:P3D
CALSCALE:GREGORIAN
BEGIN:VEVENT
DTSTART:20120720T000500Z
DTEND:20120720T000500Z
X-MICROSOFT-CDO-ALLDAYEVENT:FALSE
SUMMARY:Bert Ogden Harlingen- Appreciation night!
DESCRIPTION:Bert Ogden Harlingen would like to thank our customers and community of Harlingen for the constant support and business!\n\nWe will be celebrating at Whitewing Stadium July 19th!\nGiveaways! Specials in the Stadium! Special Games and Prizes! Appearance by BO the Kia Hamster!\nNational Anthem will be sung by Lead singer of The Chimies! \n\nPlease join us this evening! FREE TICKETS AVAILABLE AT OUR DEALERSHIP! Stop by and pick yours up today!
X-ALT-DESC;FMTTYPE=text/html:Bert Ogden Harlingen would like to thank our customers and community of Harlingen for the constant support and business!\n\nWe will be celebrating at Whitewing Stadium July 19th!\nGiveaways! Specials in the Stadium! Special Games and Prizes! Appearance by BO the Kia Hamster!\nNational Anthem will be sung by Lead singer of The Chimies! \n\nPlease join us this evening! FREE TICKETS AVAILABLE AT OUR DEALERSHIP! Stop by and pick yours up today!\n\n\n
LOCATION:To pick up tickets: Bert Ogden Harlingen Hyundai Kia 602 W. Jackson Harlingen\, TX 78550 Event Location: Rio Grande Valley WhiteWings Harlingen Field 1216 Fair Park Boulevard Harlingen\, Texas 78550
UID:e.1828.3989
SEQUENCE:3
DTSTAMP:20260420T114249Z
URL:https://business.harlingen.com/events/details/bert-ogden-harlingen-appreciation-night-07-19-2012-3989
END:VEVENT

END:VCALENDAR
