BEGIN:VCALENDAR
VERSION:2.0
PRODID:-//ChamberMaster//Event Calendar 2.0//EN
METHOD:PUBLISH
X-PUBLISHED-TTL:P3D
REFRESH-INTERVAL:P3D
CALSCALE:GREGORIAN
BEGIN:VEVENT
DTSTART:20110810T150000Z
DTEND:20110810T150000Z
X-MICROSOFT-CDO-ALLDAYEVENT:FALSE
SUMMARY:Bert Ogden Harlingen Hyundai Ground Breaking
DESCRIPTION:You are invited to the Bert Ogden Harlingen Hyundai Ground Breaking. Make sure to bring your business card for your chance to enter our door prize giveaway!
X-ALT-DESC;FMTTYPE=text/html:You are invited to the Bert Ogden Harlingen Hyundai Ground Breaking. Make sure to bring your business card for your chance to enter our door prize giveaway!
LOCATION:Exit Altas Palmas
UID:e.1828.3128
SEQUENCE:3
DTSTAMP:20260421T051903Z
URL:https://business.harlingen.com/events/details/bert-ogden-harlingen-hyundai-ground-breaking-08-10-2011-3128
END:VEVENT

END:VCALENDAR
