BEGIN:VCALENDAR
VERSION:2.0
PRODID:-//ChamberMaster//Event Calendar 2.0//EN
METHOD:PUBLISH
X-PUBLISHED-TTL:P3D
REFRESH-INTERVAL:P3D
CALSCALE:GREGORIAN
BEGIN:VEVENT
DTSTART:20120823T223000Z
DTEND:20120823T223000Z
X-MICROSOFT-CDO-ALLDAYEVENT:FALSE
SUMMARY:Bert Ogden Harlingen Hyundai Ribbon Cutting
DESCRIPTION:Come help us celebrate our Grand Opening and Ribbon Cutting Event!
X-ALT-DESC;FMTTYPE=text/html:Come help us celebrate our Grand Opening and Ribbon Cutting Event! \n
LOCATION:
UID:e.1828.3908
SEQUENCE:3
DTSTAMP:20260420T114607Z
URL:https://business.harlingen.com/events/details/bert-ogden-harlingen-hyundai-ribbon-cutting-08-23-2012-3908
END:VEVENT

END:VCALENDAR
