BEGIN:VCALENDAR
VERSION:2.0
PRODID:-//ChamberMaster//Event Calendar 2.0//EN
METHOD:PUBLISH
X-PUBLISHED-TTL:P3D
REFRESH-INTERVAL:P3D
CALSCALE:GREGORIAN
BEGIN:VEVENT
DTSTART:20100912T230000Z
DTEND:20100912T230000Z
X-MICROSOFT-CDO-ALLDAYEVENT:FALSE
SUMMARY:Bicentennial Anniversary Celebration of Mexico's Independence from Spain
DESCRIPTION:Come help celebrate the Bicentennial Anniversary of Mexico's Independence from Spain including a special tribute to Harlingen for its Centennial Anniversary.  Enjoy live music\, folkloric dancers and a good old fashioned Grito ceremony.  Admission is Free!  So bring the whole family.
X-ALT-DESC;FMTTYPE=text/html:Come help celebrate the Bicentennial Anniversary of Mexico's Independence from Spain including a special tribute to Harlingen for its Centennial Anniversary.  Enjoy live music\, folkloric dancers and a good old fashioned Grito ceremony.  Admission is Free!  So bring the whole family.\n\n
LOCATION:
UID:e.1828.2747
SEQUENCE:3
DTSTAMP:20260421T223525Z
URL:https://business.harlingen.com/events/details/bicentennial-anniversary-celebration-of-mexico-s-independence-from-spain-09-12-2010-2747
END:VEVENT

END:VCALENDAR
