BEGIN:VCALENDAR
VERSION:2.0
PRODID:-//ChamberMaster//Event Calendar 2.0//EN
METHOD:PUBLISH
X-PUBLISHED-TTL:P3D
REFRESH-INTERVAL:P3D
CALSCALE:GREGORIAN
BEGIN:VEVENT
DTSTART:20120621T223000Z
DTEND:20120622T000000Z
X-MICROSOFT-CDO-ALLDAYEVENT:FALSE
SUMMARY:Bicycle & Pedestrian Plan Public Meeting
DESCRIPTION:For more information\, contact the Harlingen-San Benito MPO at (956) 216-5240 or e-mail at hsbmpo@myharlingen.us or visit the website at:  www.hsbmpo.org.
X-ALT-DESC;FMTTYPE=text/html:For more information\, contact the Harlingen-San Benito MPO at (956) 216-5240 or e-mail at hsbmpo@myharlingen.us or visit the website at:  www.hsbmpo.org.  
LOCATION:
UID:e.1828.3764
SEQUENCE:3
DTSTAMP:20260420T131620Z
URL:https://business.harlingen.com/events/details/bicycle-pedestrian-plan-public-meeting-06-21-2012-3764
END:VEVENT

END:VCALENDAR
