BEGIN:VCALENDAR
VERSION:2.0
PRODID:-//ChamberMaster//Event Calendar 2.0//EN
METHOD:PUBLISH
X-PUBLISHED-TTL:P3D
REFRESH-INTERVAL:P3D
CALSCALE:GREGORIAN
BEGIN:VEVENT
DTSTART:20090927T000000Z
DTEND:20090927T030000Z
X-MICROSOFT-CDO-ALLDAYEVENT:FALSE
SUMMARY:Big Squeeze Accordion Fest
DESCRIPTION:Free public screening of The Big Squeeze\, with a special presentation by film director Hector Galan. The Big Squeeze is a joyful leap into the heart of Texas music. From the urban barrios of Houston\, to the colonias of the Rio Grande Valley\, we find a new crop of players carrying on a passionate musical legacy fueled by family\, friends\, and food.  With performances by Texas Folklife's Big Squeeze contest winners\,  (2007) Juan Longoria\, Jr. with Conteño\, from Brownsville\, Texas\, and (2009) Heriberto Rodriguez from Edcouch-Elsa. Also\, appearances by other Rio Grande Valley Big Squeeze finalists.  For more information\, call 882-5138.
X-ALT-DESC;FMTTYPE=text/html:Free public screening of The Big Squeeze\, with a special presentation by film director Hector Galan. The Big Squeeze is a joyful leap into the heart of Texas music. From the urban barrios of Houston\, to the colonias of the Rio Grande Valley\, we find a new crop of players carrying on a passionate musical legacy fueled by family\, friends\, and food.  With performances by Texas Folklife's Big Squeeze contest winners\,  (2007) Juan Longoria\, Jr. with Conteño\, from Brownsville\, Texas\, and (2009) Heriberto Rodriguez from Edcouch-Elsa. Also\, appearances by other Rio Grande Valley Big Squeeze finalists.  For more information\, call 882-5138.\n
LOCATION:
UID:e.1828.2058
SEQUENCE:3
DTSTAMP:20260422T093838Z
URL:https://business.harlingen.com/events/details/big-squeeze-accordion-fest-09-26-2009-2058
END:VEVENT

END:VCALENDAR
