BEGIN:VCALENDAR
VERSION:2.0
PRODID:-//ChamberMaster//Event Calendar 2.0//EN
METHOD:PUBLISH
X-PUBLISHED-TTL:P3D
REFRESH-INTERVAL:P3D
CALSCALE:GREGORIAN
BEGIN:VEVENT
DTSTART:20120125T190000Z
DTEND:20120125T220000Z
X-MICROSOFT-CDO-ALLDAYEVENT:FALSE
SUMMARY:Bill Drury Seminar - Keeping Customers - Session 2
DESCRIPTION:Bill Drury Seminar - Keeping Customers - How to turn the tough customers into your best customers. Wednesday\, January 25\, 2012 \n\n1:00 - 4:00 pm Session Two \n\n\nFACT: Disgruntled customers tell an average of 11 other people about their bad experience with a company. \n\nFACT: An angry customer who is delighted with your response to a problem will tell as many as 20 persons about the positive experience. \n\nFACT: Word of mouth is the most powerful marketing in business! Bill Drury is on a mission to help businesses create lifetime loyal customers. This is your special invitation to attend a workshop that will refresh\, motivate\, instruct and help every person in your company turn tough customers into your best customers! \n\nEarly Registration until January 18th $79/person $69/for five or more persons\n \nLate Registration after January 18th $89/person $79/for five or more persons \n\n\nTo register\, call the Chamber today at (956) 423-5440\, ext. 216.
X-ALT-DESC;FMTTYPE=text/html:Bill Drury Seminar - Keeping Customers - How to turn the tough customers into your best customers. Wednesday\, January 25\, 2012 \n\n1:00 - 4:00 pm Session Two \n\n\nFACT: Disgruntled customers tell an average of 11 other people about their bad experience with a company. \n\nFACT: An angry customer who is delighted with your response to a problem will tell as many as 20 persons about the positive experience. \n\nFACT: Word of mouth is the most powerful marketing in business! Bill Drury is on a mission to help businesses create lifetime loyal customers. This is your special invitation to attend a workshop that will refresh\, motivate\, instruct and help every person in your company turn tough customers into your best customers! \n\nEarly Registration until January 18th $79/person $69/for five or more persons\n \nLate Registration after January 18th $89/person $79/for five or more persons \n\n\nTo register\, call the Chamber today at (956) 423-5440\, ext. 216. 
LOCATION:
UID:e.1828.3348
SEQUENCE:3
DTSTAMP:20260420T212914Z
URL:https://business.harlingen.com/events/details/bill-drury-seminar-keeping-customers-session-2-01-25-2012-3348
END:VEVENT

END:VCALENDAR
