BEGIN:VCALENDAR
VERSION:2.0
PRODID:-//ChamberMaster//Event Calendar 2.0//EN
METHOD:PUBLISH
X-PUBLISHED-TTL:P3D
REFRESH-INTERVAL:P3D
CALSCALE:GREGORIAN
BEGIN:VEVENT
DTSTART:20120331T003000Z
DTEND:20120331T003000Z
X-MICROSOFT-CDO-ALLDAYEVENT:FALSE
SUMMARY:"Blithe Spirit"
DESCRIPTION:"BLITHE SPIRIT " a British farce by Noel Coward. You will be greatly entertained with this fantasy comedy.\nTickets available for purchase at the door one hour prior to curtain.\nAdult: $10  Student: $5 (under 18 yrs.)
X-ALT-DESC;FMTTYPE=text/html:"BLITHE SPIRIT " a British farce by Noel Coward. You will be greatly entertained with this fantasy comedy.\nTickets available for purchase at the door one hour prior to curtain.\nAdult: $10  Student: $5 (under 18 yrs.)\n
LOCATION:
UID:e.1828.3455
SEQUENCE:3
DTSTAMP:20260420T181604Z
URL:https://business.harlingen.com/events/details/blithe-spirit-03-30-2012-3455
END:VEVENT

END:VCALENDAR
