BEGIN:VCALENDAR
VERSION:2.0
PRODID:-//ChamberMaster//Event Calendar 2.0//EN
METHOD:PUBLISH
X-PUBLISHED-TTL:P3D
REFRESH-INTERVAL:P3D
CALSCALE:GREGORIAN
BEGIN:VEVENT
DTSTART:20111213T143000Z
DTEND:20111214T010000Z
X-MICROSOFT-CDO-ALLDAYEVENT:FALSE
SUMMARY:Bloomers Holiday Open House
DESCRIPTION:Christmas is right around the corner!  \nCome in and see all the great gifts Bloomers has for everyone on your list.Featuring: Waxing Poetic\, Visible Faith\, Chamilia\, Chan Luu\, Tokyo milk\, Trapp Candles\, Consuela\, Seasonal Whispers\, Poo-pourri\, Man Candles\, Precious Metal Prints\, Ugly Dolls and much more. Come and join us at our temporary new location\, 1801 77 Sunshine Strip (next to China Star) for refreshments\, fun and great promotions!! Bloomers Is Your Stocking Stuffer Headquarters!
X-ALT-DESC;FMTTYPE=text/html:Christmas is right around the corner!  \nCome in and see all the great gifts Bloomers has for everyone on your list.Featuring: Waxing Poetic\, Visible Faith\, Chamilia\, Chan Luu\, Tokyo milk\, Trapp Candles\, Consuela\, Seasonal Whispers\, Poo-pourri\, Man Candles\, Precious Metal Prints\, Ugly Dolls and much more. Come and join us at our temporary new location\, 1801 77 Sunshine Strip (next to China Star) for refreshments\, fun and great promotions!! Bloomers Is Your Stocking Stuffer Headquarters!\n  \n
LOCATION:
UID:e.1828.3295
SEQUENCE:3
DTSTAMP:20260420T225434Z
URL:https://business.harlingen.com/events/details/bloomers-holiday-open-house-12-13-2011-3295
END:VEVENT

END:VCALENDAR
