BEGIN:VCALENDAR
VERSION:2.0
PRODID:-//ChamberMaster//Event Calendar 2.0//EN
METHOD:PUBLISH
X-PUBLISHED-TTL:P3D
REFRESH-INTERVAL:P3D
CALSCALE:GREGORIAN
BEGIN:VEVENT
DTSTART:20120417T223000Z
DTEND:20120417T223000Z
X-MICROSOFT-CDO-ALLDAYEVENT:FALSE
SUMMARY:Bloomers Re-Grand Opening/ Ribbon Cutting & Open House
DESCRIPTION:Come join Bloomers for their Re-Grand Opening/ Open House. Refreshments will be served.
X-ALT-DESC;FMTTYPE=text/html:Come join Bloomers for their Re-Grand Opening/ Open House. Refreshments will be served. 
LOCATION:
UID:e.1828.3548
SEQUENCE:3
DTSTAMP:20260420T163756Z
URL:https://business.harlingen.com/events/details/bloomers-re-grand-opening-ribbon-cutting-open-house-04-17-2012-3548
END:VEVENT

END:VCALENDAR
