BEGIN:VCALENDAR
VERSION:2.0
PRODID:-//ChamberMaster//Event Calendar 2.0//EN
METHOD:PUBLISH
X-PUBLISHED-TTL:P3D
REFRESH-INTERVAL:P3D
CALSCALE:GREGORIAN
BEGIN:VEVENT
DTSTART:20110416T230000Z
DTEND:20110416T230000Z
X-MICROSOFT-CDO-ALLDAYEVENT:FALSE
SUMMARY:Blues on the Hill
DESCRIPTION:Harlingen Parks and Recreation Department along with Harlingen Volunteer Involvement Council presents a great evening of entertainment and fun. Lawn chairs\, blankets and beach towels are welcome. Food and cold beverages will be sold. (No outside food or beverages please). Free Admission. The public is invited. For information\, call the Harlingen Parks and Recreation Department at (956) 216-5950.  Location McKelvey Park at 1325 S 77 Sunshine Strip.
X-ALT-DESC;FMTTYPE=text/html:Harlingen Parks and Recreation Department along with Harlingen Volunteer Involvement Council presents a great evening of entertainment and fun. Lawn chairs\, blankets and beach towels are welcome. Food and cold beverages will be sold. (No outside food or beverages please). Free Admission. The public is invited. For information\, call the Harlingen Parks and Recreation Department at (956) 216-5950.  Location McKelvey Park at 1325 S 77 Sunshine Strip.\n
LOCATION:
UID:e.1828.3014
SEQUENCE:3
DTSTAMP:20260421T111626Z
URL:https://business.harlingen.com/events/details/blues-on-the-hill-04-16-2011-3014
END:VEVENT

END:VCALENDAR
