BEGIN:VCALENDAR
VERSION:2.0
PRODID:-//ChamberMaster//Event Calendar 2.0//EN
METHOD:PUBLISH
X-PUBLISHED-TTL:P3D
REFRESH-INTERVAL:P3D
CALSCALE:GREGORIAN
BEGIN:VEVENT
DTSTART:20100814T230000Z
DTEND:20100814T230000Z
X-MICROSOFT-CDO-ALLDAYEVENT:FALSE
SUMMARY:BLUES ON THE HILL
DESCRIPTION:BLUES ON THE HILL SATURDAY\, August 21.  Harlingen Parks and Recreation Department along with Harlingen Volunteer Involvement Council presents a great evening of entertainment and fun. Lawn chairs and beach towels are welcome. Food and cold beverages will be sold. (No outside food or beverages please). Free Admission. The public is invited.  For information\, call the Harlingen Parks and Recreation Department at (956) 216-5950.
X-ALT-DESC;FMTTYPE=text/html:BLUES ON THE HILL SATURDAY\, August 21.  Harlingen Parks and Recreation Department along with Harlingen Volunteer Involvement Council presents a great evening of entertainment and fun. Lawn chairs and beach towels are welcome. Food and cold beverages will be sold. (No outside food or beverages please). Free Admission. The public is invited.  For information\, call the Harlingen Parks and Recreation Department at (956) 216-5950.
LOCATION:
UID:e.1828.2406
SEQUENCE:3
DTSTAMP:20260422T001528Z
URL:https://business.harlingen.com/events/details/blues-on-the-hill-08-14-2010-2406
END:VEVENT

END:VCALENDAR
