BEGIN:VCALENDAR
VERSION:2.0
PRODID:-//ChamberMaster//Event Calendar 2.0//EN
METHOD:PUBLISH
X-PUBLISHED-TTL:P3D
REFRESH-INTERVAL:P3D
CALSCALE:GREGORIAN
BEGIN:VEVENT
DTSTART:20111021T230000Z
DTEND:20111022T045500Z
X-MICROSOFT-CDO-ALLDAYEVENT:FALSE
SUMMARY:BMFA 5th Anniversary Gala
DESCRIPTION:The BMFA 5th Anniversary Gala is coming up Friday October 21 at 6:00 pm\, featuring Salvador Dalí's Illustrations from Dante's Divine Comedy & Dali's sculptures from El Museo Soumaya. \n\nWith a Flamenco theme\, we will present the flamenco dancer Rey Durán\, Concert ''Viva la Zarzuela'' \nfeaturing Maria Avalos\, Mezzosoprano & Maestro Francisco Rocafuerte\, Pianist\, special presentation of Spanish horses from Castillo Stables\, Spanish food\, wine\, desserts\, music & dance. \n\nIt will be like no other event we have had in Brownsville! \n\nFor tickets and sponsorship information\, please call: (956) 542.0941
X-ALT-DESC;FMTTYPE=text/html:The BMFA 5th Anniversary Gala is coming up Friday October 21 at 6:00 pm\, featuring Salvador Dalí's Illustrations from Dante's Divine Comedy & Dali's sculptures from El Museo Soumaya. \n\nWith a Flamenco theme\, we will present the flamenco dancer Rey Durán\, Concert ''Viva la Zarzuela'' \nfeaturing Maria Avalos\, Mezzosoprano & Maestro Francisco Rocafuerte\, Pianist\, special presentation of Spanish horses from Castillo Stables\, Spanish food\, wine\, desserts\, music & dance. \n\nIt will be like no other event we have had in Brownsville! \n\nFor tickets and sponsorship information\, please call: (956) 542.0941
LOCATION:660 E. Ringgold St. Brownsville\, TX
UID:e.1828.3207
SEQUENCE:3
DTSTAMP:20260421T033902Z
URL:https://business.harlingen.com/events/details/bmfa-5th-anniversary-gala-10-21-2011-3207
END:VEVENT

END:VCALENDAR
