BEGIN:VCALENDAR
VERSION:2.0
PRODID:-//ChamberMaster//Event Calendar 2.0//EN
METHOD:PUBLISH
X-PUBLISHED-TTL:P3D
REFRESH-INTERVAL:P3D
CALSCALE:GREGORIAN
BEGIN:VEVENT
DTSTART;VALUE=DATE:20120301
DTEND;VALUE=DATE:20120302
TRANSP:TRANSPARENT
X-MICROSOFT-CDO-ALLDAYEVENT:TRUE
SUMMARY:Bonus Bucks Bass Pro Shops 2012 Spring Fishing Classics
DESCRIPTION:Bonus Bucks\nMarch 1-7\, 2012\nWhen customers use their Bass Pro Shops Visa ® credit card to purchase new gear they can receive up to $100 in Bonus Bucks.\nPlus when they are approved for and open a new account customer will receive an additional 10% off entire purchase.\n\nContact information Elizabeth Ulloa Promotions Coordinator mail to:eulloa@basspro.com
X-ALT-DESC;FMTTYPE=text/html:Bonus Bucks\nMarch 1-7\, 2012\nWhen customers use their Bass Pro Shops Visa ® credit card to purchase new gear they can receive up to $100 in Bonus Bucks.\nPlus when they are approved for and open a new account customer will receive an additional 10% off entire purchase.\n\nContact information Elizabeth Ulloa Promotions Coordinator mail to:eulloa@basspro.com
LOCATION:
UID:e.1828.3528
SEQUENCE:3
DTSTAMP:20260420T182058Z
URL:https://business.harlingen.com/events/details/bonus-bucks-bass-pro-shops-2012-spring-fishing-classics-03-01-2012-3528
END:VEVENT

END:VCALENDAR
