BEGIN:VCALENDAR
VERSION:2.0
PRODID:-//ChamberMaster//Event Calendar 2.0//EN
METHOD:PUBLISH
X-PUBLISHED-TTL:P3D
REFRESH-INTERVAL:P3D
CALSCALE:GREGORIAN
BEGIN:VEVENT
DTSTART:20100211T233000Z
DTEND:20100212T003000Z
X-MICROSOFT-CDO-ALLDAYEVENT:FALSE
SUMMARY:Book Reading/Signing: "Charro Days in Brownsville"
DESCRIPTION:Authors Dr. Anthony Knopp\, Dr. Manuel Medrano and Priscilla Rodriguez. \nHighlights of Charro Days in Brownsville: \n•    Includes renowned dance bands and celebrities who have performed during Charro Days in full Charro costume\n•    Features the Mr. Amigo presentation and Sombrero Fest\n•    Shows Charro Days' instant success and national recognition in magazines\, radio and TV\n\nThe book will be available for sale.
X-ALT-DESC;FMTTYPE=text/html:Authors Dr. Anthony Knopp\, Dr. Manuel Medrano and Priscilla Rodriguez. \nHighlights of Charro Days in Brownsville: \n•    Includes renowned dance bands and celebrities who have performed during Charro Days in full Charro costume\n•    Features the Mr. Amigo presentation and Sombrero Fest\n•    Shows Charro Days' instant success and national recognition in magazines\, radio and TV\n\nThe book will be available for sale.\n
LOCATION:UTB/TSC main campus-Barnes and Noble Bookstore
UID:e.1828.2354
SEQUENCE:3
DTSTAMP:20260422T095104Z
URL:https://business.harlingen.com/events/details/book-reading-signing-charro-days-in-brownsville-02-11-2010-2354
END:VEVENT

END:VCALENDAR
