BEGIN:VCALENDAR
VERSION:2.0
PRODID:-//ChamberMaster//Event Calendar 2.0//EN
METHOD:PUBLISH
X-PUBLISHED-TTL:P3D
REFRESH-INTERVAL:P3D
CALSCALE:GREGORIAN
BEGIN:VEVENT
DTSTART:20100513T230000Z
DTEND:20100514T010000Z
X-MICROSOFT-CDO-ALLDAYEVENT:FALSE
SUMMARY:Book Signing at Golden Palms Honoring Dr. Oladayo A. Sanusi
DESCRIPTION:You are cordially invited to join us for a BOOK SIGNING honoring Dr. Oladayo A. Sanusi\, author of Real American War RAW on Thursday\, May 13\, 2010 from 6:00 - 8:00 p.m. in the Texas Room at Golden Palms Retirement & Health Center.  For more information\, please call 956-430-3100.
X-ALT-DESC;FMTTYPE=text/html:You are cordially invited to join us for a BOOK SIGNING honoring Dr. Oladayo A. Sanusi\, author of Real American War RAW on Thursday\, May 13\, 2010 from 6:00 - 8:00 p.m. in the Texas Room at Golden Palms Retirement & Health Center.  For more information\, please call 956-430-3100.\n\n
LOCATION:
UID:e.1828.2507
SEQUENCE:3
DTSTAMP:20260422T051231Z
URL:https://business.harlingen.com/events/details/book-signing-at-golden-palms-honoring-dr-oladayo-a-sanusi-05-13-2010-2507
END:VEVENT

END:VCALENDAR
