BEGIN:VCALENDAR
VERSION:2.0
PRODID:-//ChamberMaster//Event Calendar 2.0//EN
METHOD:PUBLISH
X-PUBLISHED-TTL:P3D
REFRESH-INTERVAL:P3D
CALSCALE:GREGORIAN
BEGIN:VEVENT
DTSTART:20100218T233000Z
DTEND:20100219T010000Z
X-MICROSOFT-CDO-ALLDAYEVENT:FALSE
SUMMARY:Book Signing at Harlingen Arts and Heritage Museum
DESCRIPTION:Book Signing at Harlingen Arts and Heritage Museum: 2/18/10: 5:30 -7:00 pm. Author Marguerite Hudson\, a retired English Teacher\, will be signing her first novel\, Whiskey Chitto Woman\, A Civil War Novel. For more information\, call HAHM at (956) 216-4901.
X-ALT-DESC;FMTTYPE=text/html:Book Signing at Harlingen Arts and Heritage Museum: 2/18/10: 5:30 -7:00 pm. Author Marguerite Hudson\, a retired English Teacher\, will be signing her first novel\, Whiskey Chitto Woman\, A Civil War Novel. For more information\, call HAHM at (956) 216-4901.
LOCATION:
UID:e.1828.2394
SEQUENCE:3
DTSTAMP:20260422T095125Z
URL:https://business.harlingen.com/events/details/book-signing-at-harlingen-arts-and-heritage-museum-02-18-2010-2394
END:VEVENT

END:VCALENDAR
