BEGIN:VCALENDAR
VERSION:2.0
PRODID:-//ChamberMaster//Event Calendar 2.0//EN
METHOD:PUBLISH
X-PUBLISHED-TTL:P3D
REFRESH-INTERVAL:P3D
CALSCALE:GREGORIAN
BEGIN:VEVENT
DTSTART:20100718T190000Z
DTEND:20100718T190000Z
X-MICROSOFT-CDO-ALLDAYEVENT:FALSE
SUMMARY:Book Signing by Rogelio Agrasanchez\, Jr.
DESCRIPTION:Book signing by Rogelio Agrasanchez\, Jr. presenting his new book Guillermo Calles\; A Biography of the Actor and Mexican Cinema Pioneer.  In 1912\, Guillermo Calles (1893-1958) became the first Mexican actor to appear in films made in California. Despite limited resources\, he began directing and producing his own movies\, and in 1929 pioneered production of Spanish-language sound films. His major works\, among them the long-unavailable El indio yaqui and Raza de Bronce (both 1927)\, representing Calles' tireless crusade to restore the image of Mexicans and Indians in an era dominated by Hollywood stereotypes.  This biography traces Calles' career from his earliest Hollywood days through the 1950's. Included are the only surviving images of the filmmaker's silent productions\, a closing commentary on his intimate circle of relatives\, and an appendix featuring two fascinating letters written by Calles during a filming trip.  For further details\, visit AFHAC.org.  Sponsored by the Hispanic Geneology Society.
X-ALT-DESC;FMTTYPE=text/html:Book signing by Rogelio Agrasanchez\, Jr. presenting his new book Guillermo Calles\; A Biography of the Actor and Mexican Cinema Pioneer.  In 1912\, Guillermo Calles (1893-1958) became the first Mexican actor to appear in films made in California. Despite limited resources\, he began directing and producing his own movies\, and in 1929 pioneered production of Spanish-language sound films. His major works\, among them the long-unavailable El indio yaqui and Raza de Bronce (both 1927)\, representing Calles' tireless crusade to restore the image of Mexicans and Indians in an era dominated by Hollywood stereotypes.  This biography traces Calles' career from his earliest Hollywood days through the 1950's. Included are the only surviving images of the filmmaker's silent productions\, a closing commentary on his intimate circle of relatives\, and an appendix featuring two fascinating letters written by Calles during a filming trip.  For further details\, visit AFHAC.org.  Sponsored by the Hispanic Geneology Society.\n\n\n
LOCATION:
UID:e.1828.2579
SEQUENCE:3
DTSTAMP:20260422T015421Z
URL:https://business.harlingen.com/events/details/book-signing-by-rogelio-agrasanchez-jr-07-18-2010-2579
END:VEVENT

END:VCALENDAR
