BEGIN:VCALENDAR
VERSION:2.0
PRODID:-//ChamberMaster//Event Calendar 2.0//EN
METHOD:PUBLISH
X-PUBLISHED-TTL:P3D
REFRESH-INTERVAL:P3D
CALSCALE:GREGORIAN
BEGIN:VEVENT
DTSTART:20120721T190000Z
DTEND:20120721T190000Z
X-MICROSOFT-CDO-ALLDAYEVENT:FALSE
SUMMARY:Book Signing by Rogelio Agrasanchez\, Jr.
DESCRIPTION:Please join us for an afternoon book signing by Rogelio Agrasanchez\, Jr.\, author of Beauties of Mexican Cinema.  While here\, enjoy light refreshments and enjoy some shopping!  For more information\, please call (956) 361-1900.
X-ALT-DESC;FMTTYPE=text/html:Please join us for an afternoon book signing by Rogelio Agrasanchez\, Jr.\, author of Beauties of Mexican Cinema.  While here\, enjoy light refreshments and enjoy some shopping!  For more information\, please call (956) 361-1900. \n
LOCATION:
UID:e.1828.3862
SEQUENCE:3
DTSTAMP:20260420T115238Z
URL:https://business.harlingen.com/events/details/book-signing-by-rogelio-agrasanchez-jr-07-21-2012-3862
END:VEVENT

END:VCALENDAR
