BEGIN:VCALENDAR
VERSION:2.0
PRODID:-//ChamberMaster//Event Calendar 2.0//EN
METHOD:PUBLISH
X-PUBLISHED-TTL:P3D
REFRESH-INTERVAL:P3D
CALSCALE:GREGORIAN
BEGIN:VEVENT
DTSTART:20100730T160000Z
DTEND:20100730T190000Z
X-MICROSOFT-CDO-ALLDAYEVENT:FALSE
SUMMARY:Book Signing by Teenage Author\, Megan Otto
DESCRIPTION:Books N Things is sponsoring a book signing by Megan Otto\, teenage author of "A Love's Melody".  Megan will be present to autograph any of her books purchased between 11 am & 2 pm.  Refreshments will be served.  For more information\, please call 956-425-5222.
X-ALT-DESC;FMTTYPE=text/html:Books N Things is sponsoring a book signing by Megan Otto\, teenage author of "A Love's Melody".  Megan will be present to autograph any of her books purchased between 11 am & 2 pm.  Refreshments will be served.  For more information\, please call 956-425-5222.
LOCATION:
UID:e.1828.2614
SEQUENCE:3
DTSTAMP:20260422T020019Z
URL:https://business.harlingen.com/events/details/book-signing-by-teenage-author-megan-otto-07-30-2010-2614
END:VEVENT

END:VCALENDAR
