BEGIN:VCALENDAR
VERSION:2.0
PRODID:-//ChamberMaster//Event Calendar 2.0//EN
METHOD:PUBLISH
X-PUBLISHED-TTL:P3D
REFRESH-INTERVAL:P3D
CALSCALE:GREGORIAN
BEGIN:VEVENT
DTSTART:20100421T150000Z
DTEND:20100421T170000Z
X-MICROSOFT-CDO-ALLDAYEVENT:FALSE
SUMMARY:Boot Camp- 8(a) & HUB Zone
DESCRIPTION:What is HUB Zone? What is an 8(a)? For qualified small businesses\, the SBA HUB Zone Program offers an excellent opportunity to secure government contracts. The SBA Reauthorization Act of 1997 created the HUB Zone program with the intention of promoting economic development in historically underutilized business zones by establishing preferences for government contracts in these areas
X-ALT-DESC;FMTTYPE=text/html:What is HUB Zone? What is an 8(a)? For qualified small businesses\, the SBA HUB Zone Program offers an excellent opportunity to secure government contracts. The SBA Reauthorization Act of 1997 created the HUB Zone program with the intention of promoting economic development in historically underutilized business zones by establishing preferences for government contracts in these areas
LOCATION:Harlingen Chamber of Commerce 311 E Tyler
UID:e.1828.2514
SEQUENCE:3
DTSTAMP:20260422T062331Z
URL:https://business.harlingen.com/events/details/boot-camp-8-a-hub-zone-04-21-2010-2514
END:VEVENT

END:VCALENDAR
