BEGIN:VCALENDAR
VERSION:2.0
PRODID:-//ChamberMaster//Event Calendar 2.0//EN
METHOD:PUBLISH
X-PUBLISHED-TTL:P3D
REFRESH-INTERVAL:P3D
CALSCALE:GREGORIAN
BEGIN:VEVENT
DTSTART:20100525T150000Z
DTEND:20100525T170000Z
X-MICROSOFT-CDO-ALLDAYEVENT:FALSE
SUMMARY:Boot Camp- 8(a) & HUB Zone
DESCRIPTION:Did you know there is a database of all the companies that do business with the Federal Government? Learn how to register your business on the CCR (Central Contractors Registration) and put your business in the Federal Government ''yellow pages''. This workshop will also cover the eligibility of the 8(a) Program Participation\; completion of the electronic application\; explanation and guidance in completing the required SBA forms
X-ALT-DESC;FMTTYPE=text/html:Did you know there is a database of all the companies that do business with the Federal Government? Learn how to register your business on the CCR (Central Contractors Registration) and put your business in the Federal Government ''yellow pages''. This workshop will also cover the eligibility of the 8(a) Program Participation\; completion of the electronic application\; explanation and guidance in completing the required SBA forms
LOCATION:Harlingen Chamber of Commerce
UID:e.1828.2499
SEQUENCE:3
DTSTAMP:20260422T045110Z
URL:https://business.harlingen.com/events/details/boot-camp-8-a-hub-zone-05-25-2010-2499
END:VEVENT

END:VCALENDAR
