BEGIN:VCALENDAR
VERSION:2.0
PRODID:-//ChamberMaster//Event Calendar 2.0//EN
METHOD:PUBLISH
X-PUBLISHED-TTL:P3D
REFRESH-INTERVAL:P3D
CALSCALE:GREGORIAN
BEGIN:VEVENT
DTSTART:20100520T233000Z
DTEND:20100520T233000Z
X-MICROSOFT-CDO-ALLDAYEVENT:FALSE
SUMMARY:Boy Scouts Honor Col. R. Glen Hill\, USMC Ret.
DESCRIPTION:The Rio Grande Council\, Boy Scouts of America will hold the ''2010 Centennial Celebration'' Dinner\, on Thursday\, May 20\, 2010\, at La Sierra Event center at 6:30PM.  Col. R. Glen Hill\, USMC Ret.\, Superintendant of Marine Military Academy will be honored as the fourth recipient of the ''Centennial Leadership Award\,'' which will be presented at this benefit dinner.\n\nThe ''Centennial Leadership Award'' has been designated by the Rio Grande Council of the Boy Scouts of America as an award to recognize a civic\, community\, or business leader who demonstrates patriotism\, leadership\, and service at a local\, state\, or national level.  The candidate must also provide service and support to the character development of youth within Cameron County.  Past honorees include Senator Eddie Lucio\, Neal O. Simmons\, and Monsignor Gustavo Barrera. \n\nCol. Hill has been a long time supporter of numerous youth programs and charities in Cameron Country.  He has also worked closely on many education and training initiatives.    \n\nFunds raised for this dinner will support the Boy Scouts of America in the Rio Grande Valley. For more information on becoming a sponsor of this event\, please contact Ernest Castro at 956-423-0250 at ecastro@bsamail.org.
X-ALT-DESC;FMTTYPE=text/html:The Rio Grande Council\, Boy Scouts of America will hold the ''2010 Centennial Celebration'' Dinner\, on Thursday\, May 20\, 2010\, at La Sierra Event center at 6:30PM.  Col. R. Glen Hill\, USMC Ret.\, Superintendant of Marine Military Academy will be honored as the fourth recipient of the ''Centennial Leadership Award\,'' which will be presented at this benefit dinner.\n\nThe ''Centennial Leadership Award'' has been designated by the Rio Grande Council of the Boy Scouts of America as an award to recognize a civic\, community\, or business leader who demonstrates patriotism\, leadership\, and service at a local\, state\, or national level.  The candidate must also provide service and support to the character development of youth within Cameron County.  Past honorees include Senator Eddie Lucio\, Neal O. Simmons\, and Monsignor Gustavo Barrera. \n\nCol. Hill has been a long time supporter of numerous youth programs and charities in Cameron Country.  He has also worked closely on many education and training initiatives.    \n\nFunds raised for this dinner will support the Boy Scouts of America in the Rio Grande Valley. For more information on becoming a sponsor of this event\, please contact Ernest Castro at 956-423-0250 at ecastro@bsamail.org.\n
LOCATION:
UID:e.1828.2523
SEQUENCE:3
DTSTAMP:20260422T061852Z
URL:https://business.harlingen.com/events/details/boy-scouts-honor-col-r-glen-hill-usmc-ret-05-20-2010-2523
END:VEVENT

END:VCALENDAR
