BEGIN:VCALENDAR
VERSION:2.0
PRODID:-//ChamberMaster//Event Calendar 2.0//EN
METHOD:PUBLISH
X-PUBLISHED-TTL:P3D
REFRESH-INTERVAL:P3D
CALSCALE:GREGORIAN
BEGIN:VEVENT
DTSTART:20110526T233000Z
DTEND:20110526T233000Z
X-MICROSOFT-CDO-ALLDAYEVENT:FALSE
SUMMARY:Boy Scouts of America District Gala honoring Todd Mann
DESCRIPTION:The Rio Grande Council\, Boy Scouts of America requests your presence in honoring Todd Mann\, Chief Executive Officer & President of Harlingen Medical Center.  For more information please call Letty Kretz 956-365-1848
X-ALT-DESC;FMTTYPE=text/html:The Rio Grande Council\, Boy Scouts of America requests your presence in honoring Todd Mann\, Chief Executive Officer & President of Harlingen Medical Center.  For more information please call Letty Kretz 956-365-1848
LOCATION:
UID:e.1828.3053
SEQUENCE:3
DTSTAMP:20260421T094613Z
URL:https://business.harlingen.com/events/details/boy-scouts-of-america-district-gala-honoring-todd-mann-05-26-2011-3053
END:VEVENT

END:VCALENDAR
