BEGIN:VCALENDAR
VERSION:2.0
PRODID:-//ChamberMaster//Event Calendar 2.0//EN
METHOD:PUBLISH
X-PUBLISHED-TTL:P3D
REFRESH-INTERVAL:P3D
CALSCALE:GREGORIAN
BEGIN:VEVENT
DTSTART:20090829T133000Z
DTEND:20090829T133000Z
X-MICROSOFT-CDO-ALLDAYEVENT:FALSE
SUMMARY:BOYS & GIRLS CLUBS OF HARLINGEN GOLF TOURNAMENT
DESCRIPTION:BOYS & GIRLS CLUBS OF HARLINGEN \n33rd Annual Nebraska Style \nGolf Tournament\nTreasure Hills Golf Club\n3009 N. Augusta National Drive\, Harlingen \n \nGreen/Cart Fees\, 2 Mulligans\, Tiger Woods Drive\, Continental Breakfast\, Beverage Carts\, Putting Contest\, Hold Contests\, Door Prizes & Great BBQ Dinner in air conditioned comfort\nRegistration Deadline:  Tuesday\, August 25th at 6:00 pm. \nFor more information or to sign up\, call Lupita Muniz at 454-7693\, or the Boys and Girls Club - Gerald at 428-4183 .
X-ALT-DESC;FMTTYPE=text/html:BOYS & GIRLS CLUBS OF HARLINGEN \n33rd Annual Nebraska Style \nGolf Tournament\nTreasure Hills Golf Club\n3009 N. Augusta National Drive\, Harlingen \n \nGreen/Cart Fees\, 2 Mulligans\, Tiger Woods Drive\, Continental Breakfast\, Beverage Carts\, Putting Contest\, Hold Contests\, Door Prizes & Great BBQ Dinner in air conditioned comfort\nRegistration Deadline:  Tuesday\, August 25th at 6:00 pm. \nFor more information or to sign up\, call Lupita Muniz at 454-7693\, or the Boys and Girls Club - Gerald at 428-4183 . \n
LOCATION:Treasure Hills Golf Club
UID:e.1828.2010
SEQUENCE:3
DTSTAMP:20260422T081416Z
URL:https://business.harlingen.com/events/details/boys-girls-clubs-of-harlingen-golf-tournament-08-29-2009-2010
END:VEVENT

END:VCALENDAR
