BEGIN:VCALENDAR
VERSION:2.0
PRODID:-//ChamberMaster//Event Calendar 2.0//EN
METHOD:PUBLISH
X-PUBLISHED-TTL:P3D
REFRESH-INTERVAL:P3D
CALSCALE:GREGORIAN
BEGIN:VEVENT
DTSTART;VALUE=DATE:20120428
DTEND;VALUE=DATE:20120429
TRANSP:TRANSPARENT
X-MICROSOFT-CDO-ALLDAYEVENT:TRUE
SUMMARY:"BRAVEST & FINEST" Bar-B-Q Cook-Off
DESCRIPTION:Harlingen Fire Department Professional Firefighter's Association Fundraiser "BRAVEST & FINEST" Bar-B-Q Cook-Off. For more information\, contact Andy Galvan at 361/228-3434 or at galvan_76@yahoo.com.  \n         \nMATCHING FUND PROJECT\nFor the benefit of Harlingen Professional\nFirefighters Association\nUp to $2500.00 will be matched by Modern Woodmen of America for emergency support of families.\nCHPT 13276\, Harlingen\, TX\nContact:  Lee E. Guerra\, FIC\, at (956) 564-9048 for more information.
X-ALT-DESC;FMTTYPE=text/html:Harlingen Fire Department Professional Firefighter's Association Fundraiser "BRAVEST & FINEST" Bar-B-Q Cook-Off. For more information\, contact Andy Galvan at 361/228-3434 or at galvan_76@yahoo.com.  \n         \nMATCHING FUND PROJECT\nFor the benefit of Harlingen Professional\nFirefighters Association\nUp to $2500.00 will be matched by Modern Woodmen of America for emergency support of families.\nCHPT 13276\, Harlingen\, TX\nContact:  Lee E. Guerra\, FIC\, at (956) 564-9048 for more information. \n
LOCATION:
UID:e.1828.3602
SEQUENCE:3
DTSTAMP:20260420T181937Z
URL:https://business.harlingen.com/events/details/bravest-finest-bar-b-q-cook-off-04-28-2012-3602
END:VEVENT

END:VCALENDAR
