BEGIN:VCALENDAR
VERSION:2.0
PRODID:-//ChamberMaster//Event Calendar 2.0//EN
METHOD:PUBLISH
X-PUBLISHED-TTL:P3D
REFRESH-INTERVAL:P3D
CALSCALE:GREGORIAN
BEGIN:VEVENT
DTSTART:20101028T130000Z
DTEND:20101028T220000Z
X-MICROSOFT-CDO-ALLDAYEVENT:FALSE
SUMMARY:BRING BACK THE PEACE-8th Annual Domestic Violence Conference
DESCRIPTION:This is a one day day event to educate the community\, social service agencies\, and law enforcment agencies on the subject of Domestic Violence.\n\nA total of six CEU and TCLEOSE hours will be provided\;  early registration fee is $10.00 and after October 21\, 2010\, $15.00 will be charged who reigster and also pay at the door.  Early registration is encouraged.
X-ALT-DESC;FMTTYPE=text/html:This is a one day day event to educate the community\, social service agencies\, and law enforcment agencies on the subject of Domestic Violence.\n\nA total of six CEU and TCLEOSE hours will be provided\;  early registration fee is $10.00 and after October 21\, 2010\, $15.00 will be charged who reigster and also pay at the door.  Early registration is encouraged.
LOCATION:TSTC Cultural Arts Center -1902 N. Loop 499\, Harlingen\, Texas
UID:e.1828.2771
SEQUENCE:3
DTSTAMP:20260421T203639Z
URL:https://business.harlingen.com/events/details/bring-back-the-peace-8th-annual-domestic-violence-conference-10-28-2010-2771
END:VEVENT

END:VCALENDAR
